BEGIN:VCALENDAR
VERSION:2.0
PRODID:icalendar-ruby
CALSCALE:GREGORIAN
METHOD:PUBLISH
BEGIN:VEVENT
DTSTAMP:20260423T114628Z
UID:14-2137030@fbccorrigan.org
DTSTART:20260823T144500Z
DTEND:20260823T155000Z
CLASS:PUBLIC
CREATED:20260422T212122
DESCRIPTION:
LAST-MODIFIED:20260422T212122
LOCATION:
SUMMARY:Sunday School
URL;VALUE=URI:https://www.fbccorrigan.org/events/sunday-school/2026-08-23
ATTACH;FILENAME=IMG_0380.jpg;FMTTYPE=image/jpeg:https://dq5pwpg1q8ru0.cloud
 front.net/2023/04/26/14/15/26/24420dcf-5ab1-4d2d-a24e-b1377e826847/IMG_038
 0.jpg
END:VEVENT
END:VCALENDAR
