BEGIN:VCALENDAR
VERSION:2.0
PRODID:icalendar-ruby
CALSCALE:GREGORIAN
METHOD:PUBLISH
BEGIN:VEVENT
DTSTAMP:20260424T010715Z
UID:14-2143390@fbccorrigan.org
DTSTART:20261101T154500Z
DTEND:20261101T165000Z
CLASS:PUBLIC
CREATED:20260423T182931
DESCRIPTION:
LAST-MODIFIED:20260423T182931
LOCATION:
SUMMARY:Sunday School
URL;VALUE=URI:https://www.fbccorrigan.org/events/sunday-school/2026-11-01
ATTACH;FILENAME=IMG_0380.jpg;FMTTYPE=image/jpeg:https://dq5pwpg1q8ru0.cloud
 front.net/2023/04/26/14/15/26/24420dcf-5ab1-4d2d-a24e-b1377e826847/IMG_038
 0.jpg
END:VEVENT
END:VCALENDAR
