BEGIN:VCALENDAR
VERSION:2.0
PRODID:icalendar-ruby
CALSCALE:GREGORIAN
METHOD:PUBLISH
BEGIN:VEVENT
DTSTAMP:20260420T142151Z
UID:11-2116193@fbccorrigan.org
DTSTART:20260614T160000Z
DTEND:20260614T170000Z
CLASS:PUBLIC
CREATED:20260420T091307
DESCRIPTION:
LAST-MODIFIED:20260420T091307
LOCATION:FBC Santuary
SUMMARY:Sunday Service
URL;VALUE=URI:https://www.fbccorrigan.org/events/sunday-service/2026-06-14
END:VEVENT
END:VCALENDAR
