BEGIN:VCALENDAR
VERSION:2.0
PRODID:icalendar-ruby
CALSCALE:GREGORIAN
METHOD:PUBLISH
BEGIN:VEVENT
DTSTAMP:20260420T155637Z
UID:11-2116194@fbccorrigan.org
DTSTART:20260621T160000Z
DTEND:20260621T170000Z
CLASS:PUBLIC
CREATED:20260420T091307
DESCRIPTION:
LAST-MODIFIED:20260420T091307
LOCATION:FBC Santuary
SUMMARY:Sunday Service
URL;VALUE=URI:https://www.fbccorrigan.org/events/sunday-service/2026-06-21
END:VEVENT
END:VCALENDAR
