BEGIN:VCALENDAR
VERSION:2.0
PRODID:icalendar-ruby
CALSCALE:GREGORIAN
METHOD:PUBLISH
BEGIN:VEVENT
DTSTAMP:20260420T190450Z
UID:11-2117463@fbccorrigan.org
DTSTART:20260705T160000Z
DTEND:20260705T170000Z
CLASS:PUBLIC
CREATED:20260420T114704
DESCRIPTION:
LAST-MODIFIED:20260420T114704
LOCATION:FBC Santuary
SUMMARY:Sunday Service
URL;VALUE=URI:https://www.fbccorrigan.org/events/sunday-service/2026-07-05
END:VEVENT
END:VCALENDAR
