BEGIN:VCALENDAR
VERSION:2.0
PRODID:icalendar-ruby
CALSCALE:GREGORIAN
METHOD:PUBLISH
BEGIN:VEVENT
DTSTAMP:20260420T204726Z
UID:11-2118731@fbccorrigan.org
DTSTART:20260712T160000Z
DTEND:20260712T170000Z
CLASS:PUBLIC
CREATED:20260420T142144
DESCRIPTION:
LAST-MODIFIED:20260420T142144
LOCATION:FBC Santuary
SUMMARY:Sunday Service
URL;VALUE=URI:https://www.fbccorrigan.org/events/sunday-service/2026-07-12
END:VEVENT
END:VCALENDAR
