BEGIN:VCALENDAR
VERSION:2.0
PRODID:icalendar-ruby
CALSCALE:GREGORIAN
METHOD:PUBLISH
BEGIN:VEVENT
DTSTAMP:20260420T234507Z
UID:11-2120000@fbccorrigan.org
DTSTART:20260726T160000Z
DTEND:20260726T170000Z
CLASS:PUBLIC
CREATED:20260420T165742
DESCRIPTION:
LAST-MODIFIED:20260420T165742
LOCATION:FBC Santuary
SUMMARY:Sunday Service
URL;VALUE=URI:https://www.fbccorrigan.org/events/sunday-service/2026-07-26
END:VEVENT
END:VCALENDAR
