BEGIN:VCALENDAR
VERSION:2.0
PRODID:icalendar-ruby
CALSCALE:GREGORIAN
METHOD:PUBLISH
BEGIN:VEVENT
DTSTAMP:20260423T100000Z
UID:11-2136473@fbccorrigan.org
DTSTART:20260809T160000Z
DTEND:20260809T170000Z
CLASS:PUBLIC
CREATED:20260422T212120
DESCRIPTION:
LAST-MODIFIED:20260422T212120
LOCATION:FBC Santuary
SUMMARY:Sunday Service
URL;VALUE=URI:https://www.fbccorrigan.org/events/sunday-service/2026-08-09
END:VEVENT
END:VCALENDAR
