BEGIN:VCALENDAR
VERSION:2.0
PRODID:icalendar-ruby
CALSCALE:GREGORIAN
METHOD:PUBLISH
BEGIN:VEVENT
DTSTAMP:20260423T143641Z
UID:11-2137746@fbccorrigan.org
DTSTART:20260830T160000Z
DTEND:20260830T170000Z
CLASS:PUBLIC
CREATED:20260423T065110
DESCRIPTION:
LAST-MODIFIED:20260423T065110
LOCATION:FBC Santuary
SUMMARY:Sunday Service
URL;VALUE=URI:https://www.fbccorrigan.org/events/sunday-service/2026-08-30
END:VEVENT
END:VCALENDAR
