BEGIN:VCALENDAR
VERSION:2.0
PRODID:icalendar-ruby
CALSCALE:GREGORIAN
METHOD:PUBLISH
BEGIN:VEVENT
DTSTAMP:20260423T223138Z
UID:11-2141562@fbccorrigan.org
DTSTART:20261011T160000Z
DTEND:20261011T170000Z
CLASS:PUBLIC
CREATED:20260423T153546
DESCRIPTION:
LAST-MODIFIED:20260423T153546
LOCATION:FBC Santuary
SUMMARY:Sunday Service
URL;VALUE=URI:https://www.fbccorrigan.org/events/sunday-service/2026-10-11
END:VEVENT
END:VCALENDAR
