BEGIN:VCALENDAR
VERSION:2.0
PRODID:icalendar-ruby
CALSCALE:GREGORIAN
METHOD:PUBLISH
BEGIN:VEVENT
DTSTAMP:20260424T010555Z
UID:11-2142834@fbccorrigan.org
DTSTART:20261025T160000Z
DTEND:20261025T170000Z
CLASS:PUBLIC
CREATED:20260423T182930
DESCRIPTION:
LAST-MODIFIED:20260423T182930
LOCATION:FBC Santuary
SUMMARY:Sunday Service
URL;VALUE=URI:https://www.fbccorrigan.org/events/sunday-service/2026-10-25
END:VEVENT
END:VCALENDAR
