BEGIN:VCALENDAR
VERSION:2.0
PRODID:icalendar-ruby
CALSCALE:GREGORIAN
METHOD:PUBLISH
BEGIN:VEVENT
DTSTAMP:20260424T023117Z
UID:11-2144105@fbccorrigan.org
DTSTART:20261101T170000Z
DTEND:20261101T180000Z
CLASS:PUBLIC
CREATED:20260423T212328
DESCRIPTION:
LAST-MODIFIED:20260423T212328
LOCATION:FBC Santuary
SUMMARY:Sunday Service
URL;VALUE=URI:https://www.fbccorrigan.org/events/sunday-service/2026-11-01
END:VEVENT
END:VCALENDAR
